BEGIN:VCALENDAR
VERSION:2.0
PRODID:-//Heritage Trust Baroda - ECPv6.15.20//NONSGML v1.0//EN
CALSCALE:GREGORIAN
METHOD:PUBLISH
X-WR-CALNAME:Heritage Trust Baroda
X-ORIGINAL-URL:https://www.heritagetrustbaroda.org
X-WR-CALDESC:Events for Heritage Trust Baroda
REFRESH-INTERVAL;VALUE=DURATION:PT1H
X-Robots-Tag:noindex
X-PUBLISHED-TTL:PT1H
BEGIN:VTIMEZONE
TZID:Asia/Kolkata
BEGIN:STANDARD
TZOFFSETFROM:+0530
TZOFFSETTO:+0530
TZNAME:IST
DTSTART:20250101T000000
END:STANDARD
END:VTIMEZONE
BEGIN:VEVENT
DTSTART;TZID=Asia/Kolkata:20260418T163000
DTEND;TZID=Asia/Kolkata:20260418T183000
DTSTAMP:20260423T034605
CREATED:20260413T123637Z
LAST-MODIFIED:20260418T141030Z
UID:33174-1776529800-1776537000@www.heritagetrustbaroda.org
SUMMARY:Viraasat Lecture: 2026
DESCRIPTION:Stories of courage\, conviction\, and conservation come alive. ✨ \nJoin us for the Viraasat Lecture with K. K. Muhammed – the man who rebuilt 200 ancient temples from ruin in the heart of the Chambal Valley. Step into this epic of fighting dacoits\, mining mafias\, and reclaiming heritage against all odds. \nThis is a DACH Vadodara event\, jointly organised by Heritage Trust Vadodara and Indira Gandhi National Centre for the Arts under the aegis of Vadodara Municipal Corporation. \nSpeaker: Padma Shri K K Muhammed (Former Regional Director (North)\, Archaeological Survey of India)\nDate: 18th April 2026\nTime: 4:30 pm to 6:30 pm\nVenue: Sir Sayajirao Nagargruh\, Akota \nPlease use the below form to register \n 
URL:https://www.heritagetrustbaroda.org/event/viraasat-lecture-2026/
LOCATION:Sir Sayajirao Nagar Gruh\, Akota\, Vadodara\, Gujarat\, India
CATEGORIES:Viraasat Lectures
ATTACH;FMTTYPE=image/jpeg:https://www.heritagetrustbaroda.org/wp-content/uploads/2026/04/kkm.jpeg
ORGANIZER;CN="Heritage Trust Baroda":MAILTO:info@heritagetrustbaroda.org
END:VEVENT
BEGIN:VEVENT
DTSTART;TZID=Asia/Kolkata:20260418T190000
DTEND;TZID=Asia/Kolkata:20260418T203000
DTSTAMP:20260423T034605
CREATED:20260416T120207Z
LAST-MODIFIED:20260416T120207Z
UID:33200-1776538800-1776544200@www.heritagetrustbaroda.org
SUMMARY:Panel Discussion
DESCRIPTION:Vadodara\, get ready for a power-packed evening of ideas ✨ \nPanel Topic:\nLeveraging Vadodara’s Cultural & Heritage Legacy for a Sustainable & Resilient Future \nMeet the Voices Leading the Conversation: \nMaharani Radhikaraje Gaekwad – A leading voice in preserving and promoting Vadodara’s cultural legacy\nIAS Arun Mahesh Babu – Driving sustainable urban governance\nK.K. Muhammed – Archaeologist & Padma Shri awardee\nAishwarya Tipnis – Conservation architect & heritage expert\nDr. Jayaram Poduval – HOD\, Fine Arts\, Parul University\nHarsh Purohit – Sustainability strategist\, Cognito \nBig ideas. Diverse perspectives. One shared vision for Vadodara’s future. \nNo registration. No barriers. Just show up.
URL:https://www.heritagetrustbaroda.org/event/panel-discussion/
LOCATION:Kamatibaug Amphitheatre\, Vadodara\, India
ATTACH;FMTTYPE=image/jpeg:https://www.heritagetrustbaroda.org/wp-content/uploads/2026/04/panel-discussion.jpeg
ORGANIZER;CN="Heritage Trust Baroda":MAILTO:info@heritagetrustbaroda.org
END:VEVENT
BEGIN:VEVENT
DTSTART;TZID=Asia/Kolkata:20260419T060000
DTEND;TZID=Asia/Kolkata:20260419T083000
DTSTAMP:20260423T034605
CREATED:20260414T173420Z
LAST-MODIFIED:20260415T050012Z
UID:33191-1776578400-1776587400@www.heritagetrustbaroda.org
SUMMARY:Heritage Cyclothon
DESCRIPTION:We’re thrilled to share that the response to the Heritage Cyclothon across the beautiful city of Vadodara has been truly overwhelming! \nThis is your chance to be part of a memorable journey through Vadodara’s rich cultural heritage\, scenic streets\, and iconic landmarks — all while enjoying the joy of cycling with fellow enthusiasts. \n⚠️ *Hurry!• The additional slots are limited and will be filled on a first-come\, first-served basis. \nLet’s ride together once again!
URL:https://www.heritagetrustbaroda.org/event/heritage-cyclothon/
LOCATION:Kirti Mandir\, Vadodara\, Gujarat\, India
CATEGORIES:Heritage
ATTACH;FMTTYPE=image/jpeg:https://www.heritagetrustbaroda.org/wp-content/uploads/2026/04/cyclothon.jpeg
ORGANIZER;CN="Heritage Trust Baroda":MAILTO:info@heritagetrustbaroda.org
END:VEVENT
BEGIN:VEVENT
DTSTART;TZID=Asia/Kolkata:20260419T203000
DTEND;TZID=Asia/Kolkata:20260419T213000
DTSTAMP:20260423T034605
CREATED:20260416T120811Z
LAST-MODIFIED:20260416T120913Z
UID:33204-1776630600-1776634200@www.heritagetrustbaroda.org
SUMMARY:RENDEVOUZ WITH CULTURE
DESCRIPTION:An evening where rhythm meets heritage ✨\nExperience ‘Arpanam’ — a graceful Odissi journey by Lipsa Satapathy & group\, followed by a soul-stirring Dhrupad recital by Chintan Upadhyaya. \nKamatibaug Amphitheatre\n19 April 2026\n8:30 PM onwards \nJoin us for a rendezvous with culture.
URL:https://www.heritagetrustbaroda.org/event/rendevouz-with-culture/
LOCATION:Kamatibaug Amphitheatre\, Vadodara\, India
CATEGORIES:Heritage
ATTACH;FMTTYPE=image/jpeg:https://www.heritagetrustbaroda.org/wp-content/uploads/2026/04/RENDEVOUZ-WITH-CULTURE.jpeg
ORGANIZER;CN="Heritage Trust Baroda":MAILTO:info@heritagetrustbaroda.org
END:VEVENT
END:VCALENDAR